BEGIN:VCALENDAR
VERSION:2.0
PRODID:-//New Bethel Austin - ECPv6.15.20//NONSGML v1.0//EN
CALSCALE:GREGORIAN
METHOD:PUBLISH
X-ORIGINAL-URL:https://newbethelaustin.com
X-WR-CALDESC:Events for New Bethel Austin
REFRESH-INTERVAL;VALUE=DURATION:PT1H
X-Robots-Tag:noindex
X-PUBLISHED-TTL:PT1H
BEGIN:VTIMEZONE
TZID:America/Chicago
BEGIN:DAYLIGHT
TZOFFSETFROM:-0600
TZOFFSETTO:-0500
TZNAME:CDT
DTSTART:20200308T080000
END:DAYLIGHT
BEGIN:STANDARD
TZOFFSETFROM:-0500
TZOFFSETTO:-0600
TZNAME:CST
DTSTART:20201101T070000
END:STANDARD
BEGIN:DAYLIGHT
TZOFFSETFROM:-0600
TZOFFSETTO:-0500
TZNAME:CDT
DTSTART:20210314T080000
END:DAYLIGHT
BEGIN:STANDARD
TZOFFSETFROM:-0500
TZOFFSETTO:-0600
TZNAME:CST
DTSTART:20211107T070000
END:STANDARD
BEGIN:DAYLIGHT
TZOFFSETFROM:-0600
TZOFFSETTO:-0500
TZNAME:CDT
DTSTART:20220313T080000
END:DAYLIGHT
BEGIN:STANDARD
TZOFFSETFROM:-0500
TZOFFSETTO:-0600
TZNAME:CST
DTSTART:20221106T070000
END:STANDARD
END:VTIMEZONE
BEGIN:VEVENT
DTSTART;TZID=America/Chicago:20210511T190000
DTEND;TZID=America/Chicago:20210511T200000
DTSTAMP:20260423T154309
CREATED:20210505T000718Z
LAST-MODIFIED:20210505T000718Z
UID:1141-1620759600-1620763200@newbethelaustin.com
SUMMARY:Tuesday Night Teaching
DESCRIPTION:Tuesday Night Teaching @7:00pm CT via Conference Line.  \nPhone Number: 724-220-4000\nConference ID: 9144447
URL:https://newbethelaustin.com/event/tuesday-night-teaching/
END:VEVENT
BEGIN:VEVENT
DTSTART;TZID=America/Chicago:20210509T103000
DTEND;TZID=America/Chicago:20210509T113000
DTSTAMP:20260423T154309
CREATED:20210505T000529Z
LAST-MODIFIED:20210505T000529Z
UID:1137-1620556200-1620559800@newbethelaustin.com
SUMMARY:Sunday Service
DESCRIPTION:Due to the COVID-19 Pandemic we are currently offering worship services via our Facebook Page. Sundays at 10:30am CT.
URL:https://newbethelaustin.com/event/sunday-service/
END:VEVENT
END:VCALENDAR